BEGIN:VCALENDAR
VERSION:2.0
PRODID:-//Pfarre Lienz St. Andrä - ECPv6.15.11//NONSGML v1.0//EN
CALSCALE:GREGORIAN
METHOD:PUBLISH
X-ORIGINAL-URL:https://www.pfarre-st-andrae.at
X-WR-CALDESC:Veranstaltungen für Pfarre Lienz St. Andrä
REFRESH-INTERVAL;VALUE=DURATION:PT1H
X-Robots-Tag:noindex
X-PUBLISHED-TTL:PT1H
BEGIN:VTIMEZONE
TZID:Europe/Vienna
BEGIN:DAYLIGHT
TZOFFSETFROM:+0100
TZOFFSETTO:+0200
TZNAME:CEST
DTSTART:20180325T010000
END:DAYLIGHT
BEGIN:STANDARD
TZOFFSETFROM:+0200
TZOFFSETTO:+0100
TZNAME:CET
DTSTART:20181028T010000
END:STANDARD
BEGIN:DAYLIGHT
TZOFFSETFROM:+0100
TZOFFSETTO:+0200
TZNAME:CEST
DTSTART:20190331T010000
END:DAYLIGHT
BEGIN:STANDARD
TZOFFSETFROM:+0200
TZOFFSETTO:+0100
TZNAME:CET
DTSTART:20191027T010000
END:STANDARD
BEGIN:DAYLIGHT
TZOFFSETFROM:+0100
TZOFFSETTO:+0200
TZNAME:CEST
DTSTART:20200329T010000
END:DAYLIGHT
BEGIN:STANDARD
TZOFFSETFROM:+0200
TZOFFSETTO:+0100
TZNAME:CET
DTSTART:20201025T010000
END:STANDARD
END:VTIMEZONE
BEGIN:VEVENT
DTSTART;TZID=Europe/Vienna:20190501T113000
DTEND;TZID=Europe/Vienna:20190501T160000
DTSTAMP:20260421T122146
CREATED:20190327T002015Z
LAST-MODIFIED:20201017T161120Z
UID:1234-1556710200-1556726400@www.pfarre-st-andrae.at
SUMMARY:Wallfahrt nach Lavant
DESCRIPTION:11.30 Uhr:  Abmarsch der Fußwallfahrer bei der Stadtpfarrkirche St. Andrä\, \n14.00 Uhr:  Wallfahrtsgottesdienst am Lavanter Kirchbichl mit Bischofsvikar Mag. Jakob Bürgler.
URL:https://www.pfarre-st-andrae.at/termin/wallfahrt-nach-lavant/
LOCATION:Maria Lavant\, Lavant
ATTACH;FMTTYPE=image/jpeg:https://www.pfarre-st-andrae.at/wp-content/uploads/2019/03/20180501_150555-e1553646174200.jpg
END:VEVENT
BEGIN:VEVENT
DTSTART;TZID=Europe/Vienna:20190507T193000
DTEND;TZID=Europe/Vienna:20190507T210000
DTSTAMP:20260421T122146
CREATED:20190327T193529Z
LAST-MODIFIED:20190430T190705Z
UID:1276-1557257400-1557262800@www.pfarre-st-andrae.at
SUMMARY:Lektoren Schulung
DESCRIPTION:19.30 Uhr: Schulung für Lektoren (Jugendheim und Kirche) \n 
URL:https://www.pfarre-st-andrae.at/termin/lektoren-schulung/
LOCATION:Pfarrkirche St. Andrä\, Pfarrgasse 4\, Lienz\, 9900
ATTACH;FMTTYPE=image/jpeg:https://www.pfarre-st-andrae.at/wp-content/uploads/2019/03/pfarre.jpg
END:VEVENT
BEGIN:VEVENT
DTSTART;TZID=Europe/Vienna:20190511T150000
DTEND;TZID=Europe/Vienna:20190511T190000
DTSTAMP:20260421T122146
CREATED:20190327T193704Z
LAST-MODIFIED:20190330T215300Z
UID:1278-1557586800-1557601200@www.pfarre-st-andrae.at
SUMMARY:Einladung an Firmlinge
DESCRIPTION:15.00 – 17.30 Uhr: „Sakramentenrallye“ der Firmlinge\, \n18.00 Uhr  Vorabendmesse mit den Firmlingen\, Eltern\, Paten
URL:https://www.pfarre-st-andrae.at/termin/einladung-an-firmlinge/
LOCATION:Pfarrkirche St. Andrä\, Pfarrgasse 4\, Lienz\, 9900
END:VEVENT
BEGIN:VEVENT
DTSTART;TZID=Europe/Vienna:20190519T100000
DTEND;TZID=Europe/Vienna:20190519T110000
DTSTAMP:20260421T122146
CREATED:20190304T205844Z
LAST-MODIFIED:20201013T193308Z
UID:209-1558260000-1558263600@www.pfarre-st-andrae.at
SUMMARY:Erstkommunion in St. Andrä
DESCRIPTION:10.00 Uhr: Feier der Erstkommunion
URL:https://www.pfarre-st-andrae.at/termin/erstkommunion-in-st-andrae/
LOCATION:Pfarrkirche St. Andrä\, Pfarrgasse 4\, Lienz\, 9900
ATTACH;FMTTYPE=image/jpeg:https://www.pfarre-st-andrae.at/wp-content/uploads/2019/03/20170501_154003.jpg
END:VEVENT
BEGIN:VEVENT
DTSTART;TZID=Europe/Vienna:20190524T180000
DTEND;TZID=Europe/Vienna:20190524T190000
DTSTAMP:20260421T122146
CREATED:20190327T194134Z
LAST-MODIFIED:20190513T151839Z
UID:1282-1558720800-1558724400@www.pfarre-st-andrae.at
SUMMARY:Versöhnungsfeier der Firmlinge
DESCRIPTION:18.00 Uhr: Versöhnungsfeier der Firmlinge\, Eltern\, Paten \n 
URL:https://www.pfarre-st-andrae.at/termin/versoehnungsfeier-der-firmlinge/
LOCATION:Pfarrkirche St. Andrä\, Pfarrgasse 4\, Lienz\, 9900
ATTACH;FMTTYPE=image/jpeg:https://www.pfarre-st-andrae.at/wp-content/uploads/2019/03/IMG-20170513.jpg
END:VEVENT
BEGIN:VEVENT
DTSTART;TZID=Europe/Vienna:20190530T050000
DTEND;TZID=Europe/Vienna:20190602T190000
DTSTAMP:20260421T122146
CREATED:20190327T194323Z
LAST-MODIFIED:20190518T094815Z
UID:1284-1559192400-1559502000@www.pfarre-st-andrae.at
SUMMARY:Assisifahrt
DESCRIPTION:Assisifahrt mit Pfarrer Franz Troyer vom \nDonnerstag\, 30. Mai – Sonntag\, 2. Juni: \n 
URL:https://www.pfarre-st-andrae.at/termin/assisifahrt/
ATTACH;FMTTYPE=image/jpeg:https://www.pfarre-st-andrae.at/wp-content/uploads/2019/03/Assisi.jpg
END:VEVENT
END:VCALENDAR