BEGIN:VCALENDAR
VERSION:2.0
PRODID:-//Pfarre Lienz St. Andrä - ECPv6.15.11//NONSGML v1.0//EN
CALSCALE:GREGORIAN
METHOD:PUBLISH
X-ORIGINAL-URL:https://www.pfarre-st-andrae.at
X-WR-CALDESC:Veranstaltungen für Pfarre Lienz St. Andrä
REFRESH-INTERVAL;VALUE=DURATION:PT1H
X-Robots-Tag:noindex
X-PUBLISHED-TTL:PT1H
BEGIN:VTIMEZONE
TZID:Europe/Vienna
BEGIN:DAYLIGHT
TZOFFSETFROM:+0100
TZOFFSETTO:+0200
TZNAME:CEST
DTSTART:20180325T010000
END:DAYLIGHT
BEGIN:STANDARD
TZOFFSETFROM:+0200
TZOFFSETTO:+0100
TZNAME:CET
DTSTART:20181028T010000
END:STANDARD
BEGIN:DAYLIGHT
TZOFFSETFROM:+0100
TZOFFSETTO:+0200
TZNAME:CEST
DTSTART:20190331T010000
END:DAYLIGHT
BEGIN:STANDARD
TZOFFSETFROM:+0200
TZOFFSETTO:+0100
TZNAME:CET
DTSTART:20191027T010000
END:STANDARD
BEGIN:DAYLIGHT
TZOFFSETFROM:+0100
TZOFFSETTO:+0200
TZNAME:CEST
DTSTART:20200329T010000
END:DAYLIGHT
BEGIN:STANDARD
TZOFFSETFROM:+0200
TZOFFSETTO:+0100
TZNAME:CET
DTSTART:20201025T010000
END:STANDARD
END:VTIMEZONE
BEGIN:VEVENT
DTSTART;TZID=Europe/Vienna:20190530T050000
DTEND;TZID=Europe/Vienna:20190602T190000
DTSTAMP:20260421T121840
CREATED:20190327T194323Z
LAST-MODIFIED:20190518T094815Z
UID:1284-1559192400-1559502000@www.pfarre-st-andrae.at
SUMMARY:Assisifahrt
DESCRIPTION:Assisifahrt mit Pfarrer Franz Troyer vom \nDonnerstag\, 30. Mai – Sonntag\, 2. Juni: \n 
URL:https://www.pfarre-st-andrae.at/termin/assisifahrt/
ATTACH;FMTTYPE=image/jpeg:https://www.pfarre-st-andrae.at/wp-content/uploads/2019/03/Assisi.jpg
END:VEVENT
BEGIN:VEVENT
DTSTART;TZID=Europe/Vienna:20190607T160000
DTEND;TZID=Europe/Vienna:20190607T170000
DTSTAMP:20260421T121840
CREATED:20190327T194509Z
LAST-MODIFIED:20190526T123031Z
UID:1286-1559923200-1559926800@www.pfarre-st-andrae.at
SUMMARY:Firmungsprobe
DESCRIPTION:16.00 Uhr: Probe für die Firmung \n 
URL:https://www.pfarre-st-andrae.at/termin/firmungsprobe/
LOCATION:Pfarrkirche St. Andrä\, Pfarrgasse 4\, Lienz\, 9900
ATTACH;FMTTYPE=image/jpeg:https://www.pfarre-st-andrae.at/wp-content/uploads/2019/03/DSCN9224.jpg
END:VEVENT
BEGIN:VEVENT
DTSTART;VALUE=DATE:20190608
DTEND;VALUE=DATE:20190611
DTSTAMP:20260421T121840
CREATED:20190604T211115Z
LAST-MODIFIED:20190605T124032Z
UID:2568-1559952000-1560211199@www.pfarre-st-andrae.at
SUMMARY:Einladung zum Pfingstgebet
DESCRIPTION:Herzliche Einladung zum PFINGSTGEBET 2019 in St. Andrä \nSamstag\, 08. Juni \n18.00 Festgottesdienst mit Feierlicher Eröffnung des Pfingstgebets Gestaltung: „cantus iuvenis“ und Orgel \n19.00 – 20.00 Anbetungsstunde gestaltet vom Pfarrgemeinderat \n20.00 „Farben des Lebens“: Chorkonzert des „cantus iuvenis“ \nSonntag\, 09. Juni \n10.00 Familiengottesdienst; Gestaltung: „Kunterbunte Stimmen“ \n11.00 – 12.00 Anbetungsstunde mit Thurn\, Patriasdorf und Rindermarkt \n14.00 – 15.00 Anbetungsstunde mit Ingeborg Forcher \n15.00 – 16.00 Anbetungsstunde mit Josef Ortner \n16.00 – 18.00 Chorprobe \n18.00 Festgottesdienst; J. Haydn: Große Orgelsolomesse Pfarrchor\, Kirchenorchester und Orgel \nMontag\, 10. Juni  \n08.15 Festgottesdienst; FIRMUNG mit Bischof Hermann Glettler Gestaltung: Jugendchor St. Andrä\, „Hornflakes“\, Orgel \n11.00 – 12.00 Anbetungsstunde mit Herz-Jesu-Peggetz \n14.00 – 15.00 Anbetungsstunde mit Moarfeld – Imelda Heinz \n15.00 – 16.00 Anbetungsstunde mit Johanna Hopfgartner \n16.00 – 17.00 Anbetungsstunde mit Elisabeth Hanser \n17.00 – 18.00 Anbetungsstunde mit Brigitte Greuter \n18.00 Festlicher Abschluss des Pfingstgebetes mit feierlicher Andacht und Eucharistischem Segen Gestaltung: Orgel
URL:https://www.pfarre-st-andrae.at/termin/einladung-zum-pfingstgebet/
LOCATION:Pfarrkirche St. Andrä\, Pfarrgasse 4\, Lienz\, 9900
ATTACH;FMTTYPE=image/jpeg:https://www.pfarre-st-andrae.at/wp-content/uploads/2019/06/DSC04985.jpg
END:VEVENT
BEGIN:VEVENT
DTSTART;TZID=Europe/Vienna:20190608T180000
DTEND;TZID=Europe/Vienna:20190608T220000
DTSTAMP:20260421T121840
CREATED:20190327T194709Z
LAST-MODIFIED:20190605T125359Z
UID:1288-1560016800-1560031200@www.pfarre-st-andrae.at
SUMMARY:Pfingstsamstag
DESCRIPTION:18.00 Uhr: Festgottesdienst mit feierlicher Eröffnung des Pfingstgebets \nMusikalische Gestaltung: cantus iuvenis\, \n19.00 – 20.00 Uhr: Anbetung \n20.00 Uhr: „Farben des Lebens“: Chorkonzert mit dem cantus iuvenis!  \nDer in Wien beheimatete Chor cantus iuvenis bringt am Pfingstsamstag um 20.00 Uhr die Pfarre Lienz – St. Andrä mit einem bunten musikalischen Programm zum Strahlen. Etwa 40 Sängerinnen und Sänger\, teils aus Süd- und Osttirol\, besingen unter der Leitung von André Comploi die „Farben des Lebens“. \nEhrfurchtsvolle geistliche Werke\, wie Tota pulchra es oder O salutaris hostia treffen auf gefühlvolle Popballaden. Gesungen wird über die Liebe\, die Schönheit der Natur und die bunte Vielfalt des Lebens mit all seinen Höhen und Tiefen. Lasst uns also im Regen singen\, vom Wind getragen werden\, das battle of Jericho ausfechten und die true colours des circle of life spüren. \nCantus iuvenis gibt regelmäßig Konzerte im In- und Ausland und tritt dieses Jahr erstmals in Lienz auf. \n 
URL:https://www.pfarre-st-andrae.at/termin/pfingstsamstag/
LOCATION:Pfarrkirche St. Andrä\, Pfarrgasse 4\, Lienz\, 9900
ATTACH;FMTTYPE=image/jpeg:https://www.pfarre-st-andrae.at/wp-content/uploads/2019/03/cid_adab886e-97ef-4354-acda-34ab1d86d74d@eurprd03_prod_outlook.jpg
END:VEVENT
BEGIN:VEVENT
DTSTART;TZID=Europe/Vienna:20190608T200000
DTEND;TZID=Europe/Vienna:20190608T220000
DTSTAMP:20260421T121840
CREATED:20190330T220004Z
LAST-MODIFIED:20190527T221031Z
UID:1342-1560024000-1560031200@www.pfarre-st-andrae.at
SUMMARY:Chorkonzert
DESCRIPTION:20.00 Uhr: „Farben des Lebens“: Chorkonzert mit dem cantus iuvenis!  \nDer in Wien beheimatete Chor cantus iuvenis bringt am Pfingstsamstag um 20.00 Uhr die Pfarre Lienz – St. Andrä mit einem bunten musikalischen Programm zum Strahlen. Etwa 40 Sängerinnen und Sänger\, teils aus Süd- und Osttirol\, besingen unter der Leitung von André Comploi die „Farben des Lebens“. \nEhrfurchtsvolle geistliche Werke\, wie Tota pulchra es oder O salutaris hostia treffen auf gefühlvolle Popballaden. Gesungen wird über die Liebe\, die Schönheit der Natur und die bunte Vielfalt des Lebens mit all seinen Höhen und Tiefen. Lasst uns also im Regen singen\, vom Wind getragen werden\, das battle of Jericho ausfechten und die true colours des circle of life spüren. \nCantus iuvenis gibt regelmäßig Konzerte im In- und Ausland und tritt dieses Jahr erstmals in Lienz auf. \nDie Hl. Messe am 8. Juni um 18.00 Uhr gestaltet ein kleines Ensemble des cantus iuvenis mit. \nAnja Blaßnig
URL:https://www.pfarre-st-andrae.at/termin/chorkonzert/
LOCATION:Pfarrkirche St. Andrä\, Pfarrgasse 4\, Lienz\, 9900
CATEGORIES:Konzert
ATTACH;FMTTYPE=image/jpeg:https://www.pfarre-st-andrae.at/wp-content/uploads/2019/03/cid_950528ACFAAA4D8FAFB84ADDAC89A310@DESKTOPPOO43IT.jpg
END:VEVENT
BEGIN:VEVENT
DTSTART;TZID=Europe/Vienna:20190609T100000
DTEND;TZID=Europe/Vienna:20190609T200000
DTSTAMP:20260421T121840
CREATED:20190327T194911Z
LAST-MODIFIED:20190426T185205Z
UID:1290-1560074400-1560110400@www.pfarre-st-andrae.at
SUMMARY:Pfingstsonntag
DESCRIPTION:10.00 Uhr: Festgottesdienst \n11.00 – 12.00 und 14.00 – 16.00 Uhr: Gebetsstunden\, \n18.00: Festgottesdienst \n\n Haydn: Große OrgelsolomessePfarrchor\, Orchester\, Orgel: Helmut Oberdorfer
URL:https://www.pfarre-st-andrae.at/termin/pfingstsonntag/
LOCATION:Pfarrkirche St. Andrä\, Pfarrgasse 4\, Lienz\, 9900
ATTACH;FMTTYPE=image/jpeg:https://www.pfarre-st-andrae.at/wp-content/uploads/2019/03/DSC07587.jpg
END:VEVENT
BEGIN:VEVENT
DTSTART;TZID=Europe/Vienna:20190610T081500
DTEND;TZID=Europe/Vienna:20190610T100000
DTSTAMP:20260421T121840
CREATED:20190330T220631Z
LAST-MODIFIED:20201013T180055Z
UID:1345-1560154500-1560160800@www.pfarre-st-andrae.at
SUMMARY:Firmung - Festgottesdienst
DESCRIPTION:08.15 Uhr: Festgottesdienst – Firmung mit Bischof Hermann Glettler\,
URL:https://www.pfarre-st-andrae.at/termin/firmung/
LOCATION:Pfarrkirche St. Andrä\, Pfarrgasse 4\, Lienz\, 9900
ATTACH;FMTTYPE=image/jpeg:https://www.pfarre-st-andrae.at/wp-content/uploads/2019/03/Firmung-2010.jpg
END:VEVENT
BEGIN:VEVENT
DTSTART;TZID=Europe/Vienna:20190610T081500
DTEND;TZID=Europe/Vienna:20190610T190000
DTSTAMP:20260421T121840
CREATED:20190327T195145Z
LAST-MODIFIED:20190518T094608Z
UID:1292-1560154500-1560193200@www.pfarre-st-andrae.at
SUMMARY:Pfingstmontag
DESCRIPTION:8.15 Uhr Firmung mit Bischof Hermann Glettler \n11 – 12 und 14 – 18 Uhr: Gebetsstunden\, \n18.00 Uhr: Abschluss des Pfingstgebets mit einer feierlichen Andacht und Eucharistischem Segen
URL:https://www.pfarre-st-andrae.at/termin/pfingstmontag/
LOCATION:Pfarrkirche St. Andrä\, Pfarrgasse 4\, Lienz\, 9900
ATTACH;FMTTYPE=image/jpeg:https://www.pfarre-st-andrae.at/wp-content/uploads/2019/03/Firmung.jpg
END:VEVENT
BEGIN:VEVENT
DTSTART;TZID=Europe/Vienna:20190620T080000
DTEND;TZID=Europe/Vienna:20190620T110000
DTSTAMP:20260421T121840
CREATED:20190327T195257Z
LAST-MODIFIED:20201203T184242Z
UID:1294-1561017600-1561028400@www.pfarre-st-andrae.at
SUMMARY:Fronleichnam
DESCRIPTION:08.00 Uhr: Festgottesdienst am Hauptplatz. Anschließend Prozession mit den vier Evangelien \n 
URL:https://www.pfarre-st-andrae.at/termin/frohnleichnam/
LOCATION:Hauptplatz\, Hauptplatz\, Lienz\, 9900\, Austria
ATTACH;FMTTYPE=image/jpeg:https://www.pfarre-st-andrae.at/wp-content/uploads/2019/03/DSC07776.jpg
END:VEVENT
BEGIN:VEVENT
DTSTART;TZID=Europe/Vienna:20190629T080000
DTEND;TZID=Europe/Vienna:20190629T193000
DTSTAMP:20260421T121840
CREATED:20190620T214152Z
LAST-MODIFIED:20190620T215303Z
UID:2745-1561795200-1561836600@www.pfarre-st-andrae.at
SUMMARY:Ausflug ins Familienland
DESCRIPTION:Als kleines Dankeschön für alle Minis\, Sternschnuppen (ab der 2. Klasse)\, Jugendchormitglieder\, …. \nplanen wir wieder\, wenn das Wetter mitspielt\, \nam Samstag\, den 29. Juni einen Ausflug  \nnach St. Jakob in Haus in den „Erlebnispark Familienland Pillerseetal“
URL:https://www.pfarre-st-andrae.at/termin/ausflug-ins-familienland/
LOCATION:Pfarrkirche St. Andrä\, Pfarrgasse 4\, Lienz\, 9900
ATTACH;FMTTYPE=image/jpeg:https://www.pfarre-st-andrae.at/wp-content/uploads/2019/06/DSC05686.jpg
END:VEVENT
END:VCALENDAR